BEGIN:VCALENDAR
VERSION:2.0
PRODID:-//Library Market//iCal Export//EN
BEGIN:VEVENT
SUMMARY:Aging in Place
UID:20142
DTSTAMP:20260419T172800Z
DTSTART:20260610T150000Z
DTEND:20260610T180000Z
LOCATION:251 Glen Street, Glens Falls, NY 12801, United States
ROOM: Information Table
DESCRIPTION:Tabling 
URL:https://crandall.librarycalendar.com/event/aging-place-20142
END:VEVENT
END:VCALENDAR
