BEGIN:VCALENDAR
VERSION:2.0
PRODID:-//Library Market//iCal Export//EN
BEGIN:VEVENT
SUMMARY:Living Resources Art Program
UID:20198
DTSTAMP:20260422T201300Z
DTSTART:20260421T153000Z
DTEND:20260421T180000Z
LOCATION:251 Glen Street, Glens Falls, NY 12801, United States
ROOM: Crandall Room
DESCRIPTION:To gather our clients in a quiet environment to have their lun
 ch and to critique the art viewed earlier in the day at The Shirt Factory.
URL:https://crandall.librarycalendar.com/event/living-resources-art-progra
 m-20198
END:VEVENT
END:VCALENDAR
