BEGIN:VCALENDAR
VERSION:2.0
PRODID:-//Library Market//iCal Export//EN
BEGIN:VEVENT
SUMMARY:Acoustic Jam
UID:20265
DTSTAMP:20260423T172700Z
DTSTART:20260618T223000Z
DTEND:20260619T003000Z
LOCATION:251 Glen Street, Glens Falls, NY 12801, United States
ROOM: Christine L. McDonald Community Room
DESCRIPTION:Robin Wright, Molly Gallagher, and Harold Shippey lead this fr
 ee gathering of musicians, sharing folk, country, rock, gospel, Americana 
 music in its many forms. Bring your instrument and your voice. All are wel
 come. To play, sing, or listen. No registration required. This acoustic ja
 m will meet over the summer 2026 on the last Thursday of the month (June 1
 8, July 16, August 20) 6:30 to 8:30 pm in the Library&#039;s community roo
 m downstairs off the Folklife Gallery.This free gathering is hosted by the
  Folklife Center at Crandall Public Library, and made possible by grant fu
 nding from the New York State Council on the Arts supported by the Governo
 r&#039;s office and the New York State Legislature.
URL:https://crandall.librarycalendar.com/event/acoustic-jam-20265
END:VEVENT
END:VCALENDAR
