BEGIN:VCALENDAR
VERSION:2.0
PRODID:-//Library Market//iCal Export//EN
BEGIN:VEVENT
SUMMARY:Reptile Profile
UID:20332
DTSTAMP:20260424T065700Z
DTSTART:20260602T200000Z
DTEND:20260602T203000Z
LOCATION:251 Glen Street, Glens Falls, NY 12801, United States
ROOM: Children&#039;s Activity Room A/B
DESCRIPTION:Meet 2-4 of Moreau Lakes State Park’s rehabbed snakes and tu
 rtles and other native reptiles of New York, learn about what they eat and
  what they use for “shell-ter”. For children in Preschool and up. 
URL:https://crandall.librarycalendar.com/event/reptile-profile-20332
END:VEVENT
END:VCALENDAR
